BEGIN:VCALENDAR
VERSION:2.0
PRODID:-//Durham Ontario Dental Society,Events Durham Ontario, - ECPv6.15.20//NONSGML v1.0//EN
CALSCALE:GREGORIAN
METHOD:PUBLISH
X-WR-CALNAME:Durham Ontario Dental Society,Events Durham Ontario,
X-ORIGINAL-URL:https://www.dods.ca
X-WR-CALDESC:Events for Durham Ontario Dental Society,Events Durham Ontario,
REFRESH-INTERVAL;VALUE=DURATION:PT1H
X-Robots-Tag:noindex
X-PUBLISHED-TTL:PT1H
BEGIN:VTIMEZONE
TZID:UTC
BEGIN:STANDARD
TZOFFSETFROM:+0000
TZOFFSETTO:+0000
TZNAME:UTC
DTSTART:20240101T000000
END:STANDARD
END:VTIMEZONE
BEGIN:VEVENT
DTSTART;TZID=UTC:20250130T183000
DTEND;TZID=UTC:20250130T203000
DTSTAMP:20260421T054948
CREATED:20241203T121929Z
LAST-MODIFIED:20241206T030633Z
UID:855-1738261800-1738269000@www.dods.ca
SUMMARY:Prevention and Management of Common Endodontic Complications
DESCRIPTION:Continuing Education\n\n\n\n\n\n\n\n\n\n\n\n\n\n\n\n\n\n\n\n\n\n\n\n\n\n\n\n\n\n\n\n\n\nPrevention and Management of Common\nEndodontic Complications\nwith Dr. Muna Marashdeh  \nThursday\, January 30\, 2025\n6:30 PM: Registration\n7:00 PM: Lecture Presentation\nCategory 2 – 1.5 Points\nCost: $100 refundable deposit for DODS Members\n$100 for Non-DODS Members \nAmici – Pickering\n1305 Pickering Parkway\nPickering\, ON L1V 3P2\nTel: 905-492-6363\nhttps://www.amicipickering.com/ \nView the full course outline and speaker bio. \nRefund Policy:\nNo refunds after January 26\, 2025. \n \n\n\n\n\n\n\n\n\n\nRegister Now\n\n\n\n\n\n\n\n\n\n\n\n\n\n\n\n\n\n\n\n\n\n\n.
URL:https://www.dods.ca/event/ce-event-save-date/
LOCATION:Amici\, 1305 Pickering Parkway\, Pickering\, ON\, L1V 3P2\, Canada
END:VEVENT
END:VCALENDAR